BEGIN:VCALENDAR
PRODID:-//PUBBLE//agenda//NL
VERSION:2.0
METHOD:PUBLISH
BEGIN:VEVENT
DTSTART:20260407T124157Z
DTEND:20260407T134157Z
DTSTAMP:20260420T122627Z
UID:f7af2fe5-1f8f-4c2e-b79e-45f427d5a622
CREATED:20260420T122627Z
NAME:Start nieuwe gratis toegankelijke wandelgroep in Limmen dagjeuitinderegio.nl
X-WR-CALNAME:Start nieuwe gratis toegankelijke wandelgroep in Limmen
X-ALT-DESC;FMTTYPE=text/html:<a href='/agenda/2026/4/22/start-nieuwe-gratis-toegankelijke-wandelgroep-in-limmen-489843'>/agenda/2026/4/22/start-nieuwe-gratis-toegankelijke-wandelgroep-in-limmen-489843</a> || <p class="PLAT" pstyle="PLAT">
    LIMMEN - In beweging blijven, genieten van de buitenlucht en ondertussen gezellig contact met dorpsgenoten: vanaf woensdag 22 april 2026 kan het allemaal bij de nieuwe wandelgroep voor senioren in Limmen. 
</p>
<p class="PLAT" pstyle="PLAT">
    Team Sportservice start met deze gratis toegankelijke wandelgroep om senioren op een laagdrempelige en plezierige manier te stimuleren actief te blijven.
</p>
<p class="PLAT" pstyle="PLAT">
    Iedere woensdag 10.30 uur vertrekken de wandelaars vanaf Vredeburg Limmen (Dusseldorperweg 64) voor een wandeling van een half uur tot drie kwartier. De wandeling is op een rustig tempo en na afloop is er ruimte om samen koffie of thee te drinken. Zo staan niet alleen bewegen, maar ook ontmoeten en gezelligheid centraal. De wandelgroep is ook geschikt voor wandelaars met rollator. 
</p>
<p class="PLAT" pstyle="PLAT">
    Vooraf aanmelden is niet nodig. 
</p>
<h2 class="TUSSENKOP">Vrijwilligers
</h2>
<p class="PLAT" pstyle="PLAT">
    Team Sportservice is op zoek naar enthousiaste vrijwilligers die het leuk vinden om als begeleider mee te wandelen en bij te dragen aan de gezellige sfeer. Neem voor meer informatie contact op via imohringer@teamsportservice.nl of kijk op www.teamsportservice.nl/kennemerland.
</p>
<style>.Lead (*K) { }
.TUSSENKOP { }</style>
DESCRIPTION:<a href='/agenda/2026/4/22/start-nieuwe-gratis-toegankelijke-wandelgroep-in-limmen-489843'>/agenda/2026/4/22/start-nieuwe-gratis-toegankelijke-wandelgroep-in-limmen-489843</a> || <p class="PLAT" pstyle="PLAT">
    LIMMEN - In beweging blijven, genieten van de buitenlucht en ondertussen gezellig contact met dorpsgenoten: vanaf woensdag 22 april 2026 kan het allemaal bij de nieuwe wandelgroep voor senioren in Limmen. 
</p>
<p class="PLAT" pstyle="PLAT">
    Team Sportservice start met deze gratis toegankelijke wandelgroep om senioren op een laagdrempelige en plezierige manier te stimuleren actief te blijven.
</p>
<p class="PLAT" pstyle="PLAT">
    Iedere woensdag 10.30 uur vertrekken de wandelaars vanaf Vredeburg Limmen (Dusseldorperweg 64) voor een wandeling van een half uur tot drie kwartier. De wandeling is op een rustig tempo en na afloop is er ruimte om samen koffie of thee te drinken. Zo staan niet alleen bewegen, maar ook ontmoeten en gezelligheid centraal. De wandelgroep is ook geschikt voor wandelaars met rollator. 
</p>
<p class="PLAT" pstyle="PLAT">
    Vooraf aanmelden is niet nodig. 
</p>
<h2 class="TUSSENKOP">Vrijwilligers
</h2>
<p class="PLAT" pstyle="PLAT">
    Team Sportservice is op zoek naar enthousiaste vrijwilligers die het leuk vinden om als begeleider mee te wandelen en bij te dragen aan de gezellige sfeer. Neem voor meer informatie contact op via imohringer@teamsportservice.nl of kijk op www.teamsportservice.nl/kennemerland.
</p>
<style>.Lead (*K) { }
.TUSSENKOP { }</style>
LAST-MODIFIED:20260420T122627Z
LOCATION: Vredeburg Limmen | Dusseldorperweg 64 Limmen
SEQUENCE:0
STATUS:CONFIRMED
SUMMARY:Start nieuwe gratis toegankelijke wandelgroep in Limmen
TRANSP:OPAQUE
END:VEVENT
END:VCALENDAR
