BEGIN:VCALENDAR
PRODID:-//PUBBLE//agenda//NL
VERSION:2.0
METHOD:PUBLISH
BEGIN:VEVENT
DTSTART:20260407T142731Z
DTEND:20260407T152731Z
DTSTAMP:20260420T022622Z
UID:1926c2c5-984e-4da1-9f90-861d68334208
CREATED:20260420T022622Z
NAME:Stefan Gerritsen klassiek concert dagjeuitinderegio.nl
X-WR-CALNAME:Stefan Gerritsen klassiek concert
X-ALT-DESC;FMTTYPE=text/html:<a href='/agenda/2026/4/19/stefan-gerritsen-klassiek-concert-489887'>/agenda/2026/4/19/stefan-gerritsen-klassiek-concert-489887</a> || <p pstyle="PLAT" class="PLAT">Gitarist Stefan Gerritsen speelt klassiek concert
</p><p pstyle="PLAT" class="PLAT">ALKMAAR - Gitarist Stefan Gerritsen treedt op zondag 19 april om 15.00 uur op in de Remonstrantse kerk aan het Fnidsen in Alkmaar. 
</p><p pstyle="PLAT" class="PLAT">Op het programma staan werken van Luys de Narváez, Leo Brouwer, Francisco Tárrega, J.S. Bach en Toru Takemitsu. Met zijn duo Verso, samen met panfluitist Matthijs Koene, won hij onder meer de Vriendenkrans en Concertgebouwprijs in Amsterdam en de Cómradio-prijs voor eigentijdse muziek in Barcelona, beide in 2003. Tickets via stichtingalhambra.nl.</p>
DESCRIPTION:<a href='/agenda/2026/4/19/stefan-gerritsen-klassiek-concert-489887'>/agenda/2026/4/19/stefan-gerritsen-klassiek-concert-489887</a> || <p pstyle="PLAT" class="PLAT">Gitarist Stefan Gerritsen speelt klassiek concert
</p><p pstyle="PLAT" class="PLAT">ALKMAAR - Gitarist Stefan Gerritsen treedt op zondag 19 april om 15.00 uur op in de Remonstrantse kerk aan het Fnidsen in Alkmaar. 
</p><p pstyle="PLAT" class="PLAT">Op het programma staan werken van Luys de Narváez, Leo Brouwer, Francisco Tárrega, J.S. Bach en Toru Takemitsu. Met zijn duo Verso, samen met panfluitist Matthijs Koene, won hij onder meer de Vriendenkrans en Concertgebouwprijs in Amsterdam en de Cómradio-prijs voor eigentijdse muziek in Barcelona, beide in 2003. Tickets via stichtingalhambra.nl.</p>
LAST-MODIFIED:20260420T022622Z
LOCATION: Remonstrantse Kerk | Fnidsen 37 Alkmaar
SEQUENCE:0
STATUS:CONFIRMED
SUMMARY:Stefan Gerritsen klassiek concert
TRANSP:OPAQUE
END:VEVENT
END:VCALENDAR
