BEGIN:VCALENDAR
PRODID:-//PUBBLE//agenda//NL
VERSION:2.0
METHOD:PUBLISH
BEGIN:VEVENT
DTSTART:20260408T110728Z
DTEND:20260408T120728Z
DTSTAMP:20260420T125111Z
UID:4e8135d1-55f9-4427-b8f1-30b79962e04b
CREATED:20260420T125111Z
NAME:Blaudzun in Theater De Vest dagjeuitinderegio.nl
X-WR-CALNAME:Blaudzun in Theater De Vest
X-ALT-DESC;FMTTYPE=text/html:<a href='/agenda/2026/4/22/blaudzun-in-theater-de-vest-490077'>/agenda/2026/4/22/blaudzun-in-theater-de-vest-490077</a> || <p>ALKMAAR - Blaudzun verzorgt woensdag 22 april een theatershow in Theater De Vest vol met persoonlijke verhalen en meeslepende muziek.</p><p>Blaudzun speelt Blaudzun in het Theater op woensdag 22 april om 20.15 uur in Theater De Vest in Alkmaar. Kaarten zijn te reserveren via <a href="https://www.theaterdevest.nl" title="https://www.theaterdevest.nl" target="_blank">www.theaterdevest.nl</a>.</p>
DESCRIPTION:<a href='/agenda/2026/4/22/blaudzun-in-theater-de-vest-490077'>/agenda/2026/4/22/blaudzun-in-theater-de-vest-490077</a> || <p>ALKMAAR - Blaudzun verzorgt woensdag 22 april een theatershow in Theater De Vest vol met persoonlijke verhalen en meeslepende muziek.</p><p>Blaudzun speelt Blaudzun in het Theater op woensdag 22 april om 20.15 uur in Theater De Vest in Alkmaar. Kaarten zijn te reserveren via <a href="https://www.theaterdevest.nl" title="https://www.theaterdevest.nl" target="_blank">www.theaterdevest.nl</a>.</p>
LAST-MODIFIED:20260420T125111Z
LOCATION: Theater De Vest | Canadaplein 2 Alkmaar
SEQUENCE:0
STATUS:CONFIRMED
SUMMARY:Blaudzun in Theater De Vest
TRANSP:OPAQUE
END:VEVENT
END:VCALENDAR
