BEGIN:VCALENDAR
PRODID:-//PUBBLE//agenda//NL
VERSION:2.0
METHOD:PUBLISH
BEGIN:VEVENT
DTSTART:20260409T074247Z
DTEND:20260409T084247Z
DTSTAMP:20260420T125426Z
UID:6fd27c6e-67f6-49cd-bf1b-22499dfa4ca6
CREATED:20260420T125426Z
NAME:Excursie in gebieden van De Hooge Weide dagjeuitinderegio.nl
X-WR-CALNAME:Excursie in gebieden van De Hooge Weide
X-ALT-DESC;FMTTYPE=text/html:<a href='/agenda/2026/4/26/excursie-in-gebieden-van-de-hooge-weide-490227'>/agenda/2026/4/26/excursie-in-gebieden-van-de-hooge-weide-490227</a> || <p>CASTRICUM - De natuur in de gebieden van Stichting De Hooge Weide komt snel weer tot ontwikkeling. In gratis bij te wonen excursies vertellen de ecologen en beheerders van de stichting bezoekers graag over de planten en dieren die in de weilanden van deze particuliere natuurbeheerder voorkomen.</p><p>Natuurlijk krijgen de broedende weidevogels in deze tijd van het jaar volop aandacht. Wellicht dat ook pulletjes (kuikens) zich tussen het gras en bloeiende planten laten zien.Omdat de excursies plaats vinden in het oorspronkelijke stroomgebied van het Oer-IJ zal ook op de nog zichtbare overblijfselen worden gewezen.</p><h2>Data</h2><p>Deze excursies zijn gepland op de onderstaande data:</p><p>Voor de weidevogelgebieden in de Castricummerpolder:</p><ul><li><p>Zondag 26 april 10.30 uur – Groote Ven, Castricum (start bij fietstunnel provinciale weg).</p></li><li><p>Woensdag 30 april 19.00 uur – Oude Venne, Uitgeest (start bij parkeerplaats sternweg Uitgeest).</p></li><li><p>Vrijdag 7 mei 19.00 uur – Oude Venne, Uitgeest (start bij parkeerplaats sternweg Uitgeest).</p></li><li><p>Maandag 25 mei 10.30 uur – Groote Ven, Castricum (start bij fietstunnel provinciale weg).</p></li></ul><p>Bij niet afzegging of te veel aanmeldingen vindt zaterdag 9 mei een extra excursie plaats.</p><p>Voor het botanisch terrein in Bakkum-Noord:</p><p>Zondag 21 en 28 juni 11.00 uur (start bij Karhok Bakkum-Noord).</p><p>De excursies duren anderhalf tot twee uur en zijn onder voorbehoud van de groei in het voorjaar en het weer op de dag zelf. Aanmelden kan via: stichtingdehoogeweide.nl.</p>
DESCRIPTION:<a href='/agenda/2026/4/26/excursie-in-gebieden-van-de-hooge-weide-490227'>/agenda/2026/4/26/excursie-in-gebieden-van-de-hooge-weide-490227</a> || <p>CASTRICUM - De natuur in de gebieden van Stichting De Hooge Weide komt snel weer tot ontwikkeling. In gratis bij te wonen excursies vertellen de ecologen en beheerders van de stichting bezoekers graag over de planten en dieren die in de weilanden van deze particuliere natuurbeheerder voorkomen.</p><p>Natuurlijk krijgen de broedende weidevogels in deze tijd van het jaar volop aandacht. Wellicht dat ook pulletjes (kuikens) zich tussen het gras en bloeiende planten laten zien.Omdat de excursies plaats vinden in het oorspronkelijke stroomgebied van het Oer-IJ zal ook op de nog zichtbare overblijfselen worden gewezen.</p><h2>Data</h2><p>Deze excursies zijn gepland op de onderstaande data:</p><p>Voor de weidevogelgebieden in de Castricummerpolder:</p><ul><li><p>Zondag 26 april 10.30 uur – Groote Ven, Castricum (start bij fietstunnel provinciale weg).</p></li><li><p>Woensdag 30 april 19.00 uur – Oude Venne, Uitgeest (start bij parkeerplaats sternweg Uitgeest).</p></li><li><p>Vrijdag 7 mei 19.00 uur – Oude Venne, Uitgeest (start bij parkeerplaats sternweg Uitgeest).</p></li><li><p>Maandag 25 mei 10.30 uur – Groote Ven, Castricum (start bij fietstunnel provinciale weg).</p></li></ul><p>Bij niet afzegging of te veel aanmeldingen vindt zaterdag 9 mei een extra excursie plaats.</p><p>Voor het botanisch terrein in Bakkum-Noord:</p><p>Zondag 21 en 28 juni 11.00 uur (start bij Karhok Bakkum-Noord).</p><p>De excursies duren anderhalf tot twee uur en zijn onder voorbehoud van de groei in het voorjaar en het weer op de dag zelf. Aanmelden kan via: stichtingdehoogeweide.nl.</p>
LAST-MODIFIED:20260420T125426Z
LOCATION: Groote Ven | Provinciale weg  Castricum
SEQUENCE:0
STATUS:CONFIRMED
SUMMARY:Excursie in gebieden van De Hooge Weide
TRANSP:OPAQUE
END:VEVENT
END:VCALENDAR
