BEGIN:VCALENDAR
PRODID:-//PUBBLE//agenda//NL
VERSION:2.0
METHOD:PUBLISH
BEGIN:VEVENT
DTSTART:20260409T074433Z
DTEND:20260409T084433Z
DTSTAMP:20260422T220905Z
UID:487f2d73-5c56-44a4-8705-b5f5f1aab60d
CREATED:20260422T220905Z
NAME:Excursie in gebieden van De Hooge Weide dagjeuitinderegio.nl
X-WR-CALNAME:Excursie in gebieden van De Hooge Weide
X-ALT-DESC;FMTTYPE=text/html:<a href='/agenda/2026/6/21/excursie-in-gebieden-van-de-hooge-weide-490229'>/agenda/2026/6/21/excursie-in-gebieden-van-de-hooge-weide-490229</a> || <p>CASTRICUM - De natuur in de gebieden van Stichting De Hooge Weide komt snel weer tot ontwikkeling. In gratis bij te wonen excursies vertellen de ecologen en beheerders van de stichting bezoekers graag over de planten en dieren die in de weilanden van deze particuliere natuurbeheerder voorkomen.</p><p>Natuurlijk krijgen de broedende weidevogels in deze tijd van het jaar volop aandacht. Wellicht dat ook pulletjes (kuikens) zich tussen het gras en bloeiende planten laten zien.Omdat de excursies plaats vinden in het oorspronkelijke stroomgebied van het Oer-IJ zal ook op de nog zichtbare overblijfselen worden gewezen.</p><h2>Data</h2><p>Deze excursies zijn gepland op de onderstaande data:</p><p>Bij niet afzegging of te veel aanmeldingen vindt zaterdag 9 mei een extra excursie plaats.</p><p>Voor het botanisch terrein in Bakkum-Noord:</p><p>Zondag 21 en 28 juni 11.00 uur (start bij Karhok Bakkum-Noord).</p><p>De excursies duren anderhalf tot twee uur en zijn onder voorbehoud van de groei in het voorjaar en het weer op de dag zelf. Aanmelden kan via: stichtingdehoogeweide.nl.</p>
DESCRIPTION:<a href='/agenda/2026/6/21/excursie-in-gebieden-van-de-hooge-weide-490229'>/agenda/2026/6/21/excursie-in-gebieden-van-de-hooge-weide-490229</a> || <p>CASTRICUM - De natuur in de gebieden van Stichting De Hooge Weide komt snel weer tot ontwikkeling. In gratis bij te wonen excursies vertellen de ecologen en beheerders van de stichting bezoekers graag over de planten en dieren die in de weilanden van deze particuliere natuurbeheerder voorkomen.</p><p>Natuurlijk krijgen de broedende weidevogels in deze tijd van het jaar volop aandacht. Wellicht dat ook pulletjes (kuikens) zich tussen het gras en bloeiende planten laten zien.Omdat de excursies plaats vinden in het oorspronkelijke stroomgebied van het Oer-IJ zal ook op de nog zichtbare overblijfselen worden gewezen.</p><h2>Data</h2><p>Deze excursies zijn gepland op de onderstaande data:</p><p>Bij niet afzegging of te veel aanmeldingen vindt zaterdag 9 mei een extra excursie plaats.</p><p>Voor het botanisch terrein in Bakkum-Noord:</p><p>Zondag 21 en 28 juni 11.00 uur (start bij Karhok Bakkum-Noord).</p><p>De excursies duren anderhalf tot twee uur en zijn onder voorbehoud van de groei in het voorjaar en het weer op de dag zelf. Aanmelden kan via: stichtingdehoogeweide.nl.</p>
LAST-MODIFIED:20260422T220905Z
LOCATION: Bakkum-Noord |   
SEQUENCE:0
STATUS:CONFIRMED
SUMMARY:Excursie in gebieden van De Hooge Weide
TRANSP:OPAQUE
END:VEVENT
END:VCALENDAR
