BEGIN:VCALENDAR
PRODID:-//PUBBLE//agenda//NL
VERSION:2.0
METHOD:PUBLISH
BEGIN:VEVENT
DTSTART:20260409T074526Z
DTEND:20260409T084526Z
DTSTAMP:20260422T220401Z
UID:8a398de5-94c3-401c-b1bc-36f954f15cff
CREATED:20260422T220401Z
NAME:Excursie in gebieden van De Hooge Weide dagjeuitinderegio.nl
X-WR-CALNAME:Excursie in gebieden van De Hooge Weide
X-ALT-DESC;FMTTYPE=text/html:<a href='/agenda/2026/6/28/excursie-in-gebieden-van-de-hooge-weide-490230'>/agenda/2026/6/28/excursie-in-gebieden-van-de-hooge-weide-490230</a> || <p>CASTRICUM - De natuur in de gebieden van Stichting De Hooge Weide komt snel weer tot ontwikkeling. In gratis bij te wonen excursies vertellen de ecologen en beheerders van de stichting bezoekers graag over de planten en dieren die in de weilanden van deze particuliere natuurbeheerder voorkomen.</p><p>Natuurlijk krijgen de broedende weidevogels in deze tijd van het jaar volop aandacht. Wellicht dat ook pulletjes (kuikens) zich tussen het gras en bloeiende planten laten zien.Omdat de excursies plaats vinden in het oorspronkelijke stroomgebied van het Oer-IJ zal ook op de nog zichtbare overblijfselen worden gewezen.</p><p>De excursie voor het botanisch terrein in Bakkum-Noord vindt zondag 28 juni 11.00 uur plaats (start bij Karhok Bakkum-Noord).</p><p>De excursie duurt anderhalf tot twee uur en zijn onder voorbehoud van de groei in het voorjaar en het weer op de dag zelf. Aanmelden kan via: stichtingdehoogeweide.nl.</p>
DESCRIPTION:<a href='/agenda/2026/6/28/excursie-in-gebieden-van-de-hooge-weide-490230'>/agenda/2026/6/28/excursie-in-gebieden-van-de-hooge-weide-490230</a> || <p>CASTRICUM - De natuur in de gebieden van Stichting De Hooge Weide komt snel weer tot ontwikkeling. In gratis bij te wonen excursies vertellen de ecologen en beheerders van de stichting bezoekers graag over de planten en dieren die in de weilanden van deze particuliere natuurbeheerder voorkomen.</p><p>Natuurlijk krijgen de broedende weidevogels in deze tijd van het jaar volop aandacht. Wellicht dat ook pulletjes (kuikens) zich tussen het gras en bloeiende planten laten zien.Omdat de excursies plaats vinden in het oorspronkelijke stroomgebied van het Oer-IJ zal ook op de nog zichtbare overblijfselen worden gewezen.</p><p>De excursie voor het botanisch terrein in Bakkum-Noord vindt zondag 28 juni 11.00 uur plaats (start bij Karhok Bakkum-Noord).</p><p>De excursie duurt anderhalf tot twee uur en zijn onder voorbehoud van de groei in het voorjaar en het weer op de dag zelf. Aanmelden kan via: stichtingdehoogeweide.nl.</p>
LAST-MODIFIED:20260422T220401Z
LOCATION: Bakkum-Noord |   
SEQUENCE:0
STATUS:CONFIRMED
SUMMARY:Excursie in gebieden van De Hooge Weide
TRANSP:OPAQUE
END:VEVENT
END:VCALENDAR
