BEGIN:VCALENDAR
PRODID:-//PUBBLE//agenda//NL
VERSION:2.0
METHOD:PUBLISH
BEGIN:VEVENT
DTSTART:20260409T122247Z
DTEND:20260409T132247Z
DTSTAMP:20260420T022740Z
UID:ea6f6651-f975-48e4-a5f9-e9825a4be439
CREATED:20260420T022740Z
NAME:Voorjaarsconcert ‘Appassionata’ in Grote Kerk Schagen dagjeuitinderegio.nl
X-WR-CALNAME:Voorjaarsconcert ‘Appassionata’ in Grote Kerk Schagen
X-ALT-DESC;FMTTYPE=text/html:<a href='/agenda/2026/4/19/voorjaarsconcert-appassionata-in-grote-kerk-schagen-490360'>/agenda/2026/4/19/voorjaarsconcert-appassionata-in-grote-kerk-schagen-490360</a> || <p>Op zondag 19 april brengt ‘Appassionata’ een veelzijdig Voorjaarsconcert in de Grote Kerk op de Markt in Schagen, aanvang 15.00 uur. Onder de noemer ‘Liefde en Natuur’ nemen koor en kamerorkest het publiek mee op een romantische reis langs de vele gezichten van het voorjaar. </p><p>Kaarten zijn voor aanvang van het concert verkrijgbaar bij de ingang. Er is alleen contante betaling mogelijk. De toegang bedraagt € 20,00, kinderen tot 12 jaar gratis toegang. Reserveren van kaarten kan via info@muziekpraktijkkarelkok.nl of telefonisch via 06-51661564 (voice mail).</p>
DESCRIPTION:<a href='/agenda/2026/4/19/voorjaarsconcert-appassionata-in-grote-kerk-schagen-490360'>/agenda/2026/4/19/voorjaarsconcert-appassionata-in-grote-kerk-schagen-490360</a> || <p>Op zondag 19 april brengt ‘Appassionata’ een veelzijdig Voorjaarsconcert in de Grote Kerk op de Markt in Schagen, aanvang 15.00 uur. Onder de noemer ‘Liefde en Natuur’ nemen koor en kamerorkest het publiek mee op een romantische reis langs de vele gezichten van het voorjaar. </p><p>Kaarten zijn voor aanvang van het concert verkrijgbaar bij de ingang. Er is alleen contante betaling mogelijk. De toegang bedraagt € 20,00, kinderen tot 12 jaar gratis toegang. Reserveren van kaarten kan via info@muziekpraktijkkarelkok.nl of telefonisch via 06-51661564 (voice mail).</p>
LAST-MODIFIED:20260420T022740Z
LOCATION: Grote Kerk | Markt 23 Schagen
SEQUENCE:0
STATUS:CONFIRMED
SUMMARY:Voorjaarsconcert ‘Appassionata’ in Grote Kerk Schagen
TRANSP:OPAQUE
END:VEVENT
END:VCALENDAR
