BEGIN:VCALENDAR
PRODID:-//PUBBLE//agenda//NL
VERSION:2.0
METHOD:PUBLISH
BEGIN:VEVENT
DTSTART:20260413T084743Z
DTEND:20260413T094743Z
DTSTAMP:20260420T022250Z
UID:062df32c-8775-4ae5-852a-9e39e0b66ddb
CREATED:20260420T022250Z
NAME:Dans over vrouw van J.P. Coen in Het Pakhuis dagjeuitinderegio.nl
X-WR-CALNAME:Dans over vrouw van J.P. Coen in Het Pakhuis
X-ALT-DESC;FMTTYPE=text/html:<a href='/agenda/2026/4/19/dans-over-vrouw-van-j-coen-in-het-pakhuis-490548'>/agenda/2026/4/19/dans-over-vrouw-van-j-coen-in-het-pakhuis-490548</a> || <p>De Dansonderneming brengt een voorstelling in Theater Het Pakhuis, met als blikvanger ‘Eefje’: een nieuwe dansvoorstelling geïnspireerd op het leven van Eva Ment, de vrouw van VOC-gouverneur J.P. Coen. Kaarten via www.pakhuishoorn.nl . Meer info: www.dansonderneming.com .</p>
DESCRIPTION:<a href='/agenda/2026/4/19/dans-over-vrouw-van-j-coen-in-het-pakhuis-490548'>/agenda/2026/4/19/dans-over-vrouw-van-j-coen-in-het-pakhuis-490548</a> || <p>De Dansonderneming brengt een voorstelling in Theater Het Pakhuis, met als blikvanger ‘Eefje’: een nieuwe dansvoorstelling geïnspireerd op het leven van Eva Ment, de vrouw van VOC-gouverneur J.P. Coen. Kaarten via www.pakhuishoorn.nl . Meer info: www.dansonderneming.com .</p>
LAST-MODIFIED:20260420T022250Z
LOCATION: Theater Het Pakhuis | Onder de Boompjes 21 Hoorn
SEQUENCE:0
STATUS:CONFIRMED
SUMMARY:Dans over vrouw van J.P. Coen in Het Pakhuis
TRANSP:OPAQUE
END:VEVENT
END:VCALENDAR
