BEGIN:VCALENDAR
PRODID:-//PUBBLE//agenda//NL
VERSION:2.0
METHOD:PUBLISH
BEGIN:VEVENT
DTSTART:20260413T091937Z
DTEND:20260413T101937Z
DTSTAMP:20260420T022825Z
UID:c76ea35a-b05d-4755-934c-7d3b07ecb0be
CREATED:20260420T022825Z
NAME:Bekerfinale AZ - NEC dagjeuitinderegio.nl
X-WR-CALNAME:Bekerfinale AZ - NEC
X-ALT-DESC;FMTTYPE=text/html:<a href='/agenda/2026/4/19/bekerfinale-az-nec-490559'>/agenda/2026/4/19/bekerfinale-az-nec-490559</a> || <p pstyle="PLAT" class="PLAT">
    ALKMAAR - De bekerfinale van AZ tegen NEC is volledig uitverkocht, maar supporters zonder kaartje kunnen de wedstrijd alsnog samen bekijken in de binnenstad.
</p>
<p pstyle="PLAT" class="PLAT">
    Alle 17.000 beschikbare tickets voor de finale in De Kuip zijn verkocht. Daarom wordt op zondag 19 april opnieuw een groot scherm geplaatst op de Paardenmarkt, waar plek is voor ongeveer 2.500 fans.
</p>
<p pstyle="PLAT" class="PLAT">
    Bezoekers zijn vanaf 15.00 uur welkom op het plein. De aftrap van de wedstrijd is om 18.00 uur. Ook minderjarigen mogen naar het evenement komen, mits zij worden begeleid door een volwassene.
</p>
<p pstyle="PLAT" class="PLAT">
    Het grote scherm wordt voor het tweede jaar op rij georganiseerd en sluit aan op de voorbereidingen voor de festiviteiten rond Koningsdag in de stad.
</p>
DESCRIPTION:<a href='/agenda/2026/4/19/bekerfinale-az-nec-490559'>/agenda/2026/4/19/bekerfinale-az-nec-490559</a> || <p pstyle="PLAT" class="PLAT">
    ALKMAAR - De bekerfinale van AZ tegen NEC is volledig uitverkocht, maar supporters zonder kaartje kunnen de wedstrijd alsnog samen bekijken in de binnenstad.
</p>
<p pstyle="PLAT" class="PLAT">
    Alle 17.000 beschikbare tickets voor de finale in De Kuip zijn verkocht. Daarom wordt op zondag 19 april opnieuw een groot scherm geplaatst op de Paardenmarkt, waar plek is voor ongeveer 2.500 fans.
</p>
<p pstyle="PLAT" class="PLAT">
    Bezoekers zijn vanaf 15.00 uur welkom op het plein. De aftrap van de wedstrijd is om 18.00 uur. Ook minderjarigen mogen naar het evenement komen, mits zij worden begeleid door een volwassene.
</p>
<p pstyle="PLAT" class="PLAT">
    Het grote scherm wordt voor het tweede jaar op rij georganiseerd en sluit aan op de voorbereidingen voor de festiviteiten rond Koningsdag in de stad.
</p>
LAST-MODIFIED:20260420T022825Z
LOCATION: Paardenmarkt | Paardenmarkt  Alkmaar
SEQUENCE:0
STATUS:CONFIRMED
SUMMARY:Bekerfinale AZ - NEC
TRANSP:OPAQUE
END:VEVENT
END:VCALENDAR
