BEGIN:VCALENDAR
PRODID:-//PUBBLE//agenda//NL
VERSION:2.0
METHOD:PUBLISH
BEGIN:VEVENT
DTSTART:20260413T131628Z
DTEND:20260428T190000Z
DTSTAMP:20260425T134455Z
UID:fae710cc-56d5-4afa-ac0f-bd942c1c3ae1
CREATED:20260425T134455Z
NAME:Jongerenavond Alkenaer: eten, drinken, muziek maken of D&D spelen dagjeuitinderegio.nl
X-WR-CALNAME:Jongerenavond Alkenaer: eten, drinken, muziek maken of D&D spelen
X-ALT-DESC;FMTTYPE=text/html:<a href='/agenda/2026/4/28/jongerenavond-alkenaer-eten-drinken-muziek-maken-of-d-amp-d-spelen-490609'>/agenda/2026/4/28/jongerenavond-alkenaer-eten-drinken-muziek-maken-of-d-amp-d-spelen-490609</a> || <p>ALKMAAR - De Alkenaer organiseert elke maand een jongerenavond voor 18- tot 35-jarigen. Binnenlopen kan zomaar: voor een goede maaltijd, een potje D&amp;D of Magic The Gathering, muziek maken of gewoon kletsen. Er zijn geen verplichtingen, wel een open sfeer.</p><p>Dinsdag 28 april van 18.00 tot 21.00 uur | De Alkenaer | Toegang: 5 euro | <a href="https://www.alkenaer.nl" title="https://www.alkenaer.nl" target="_blank">www.alkenaer.nl</a>.</p>
DESCRIPTION:<a href='/agenda/2026/4/28/jongerenavond-alkenaer-eten-drinken-muziek-maken-of-d-amp-d-spelen-490609'>/agenda/2026/4/28/jongerenavond-alkenaer-eten-drinken-muziek-maken-of-d-amp-d-spelen-490609</a> || <p>ALKMAAR - De Alkenaer organiseert elke maand een jongerenavond voor 18- tot 35-jarigen. Binnenlopen kan zomaar: voor een goede maaltijd, een potje D&amp;D of Magic The Gathering, muziek maken of gewoon kletsen. Er zijn geen verplichtingen, wel een open sfeer.</p><p>Dinsdag 28 april van 18.00 tot 21.00 uur | De Alkenaer | Toegang: 5 euro | <a href="https://www.alkenaer.nl" title="https://www.alkenaer.nl" target="_blank">www.alkenaer.nl</a>.</p>
LAST-MODIFIED:20260425T134455Z
LOCATION: De Alkenaer | Ritsevoort 36 Alkmaar
SEQUENCE:0
STATUS:CONFIRMED
SUMMARY:Jongerenavond Alkenaer: eten, drinken, muziek maken of D&D spelen
TRANSP:OPAQUE
END:VEVENT
END:VCALENDAR
