BEGIN:VCALENDAR
PRODID:-//PUBBLE//agenda//NL
VERSION:2.0
METHOD:PUBLISH
BEGIN:VEVENT
DTSTART:20260414T072317Z
DTEND:20260414T082317Z
DTSTAMP:20260420T022450Z
UID:11d84fe4-33f0-4a23-8465-4d849afb543b
CREATED:20260420T022450Z
NAME:Lezing over natuurreis door Suriname dagjeuitinderegio.nl
X-WR-CALNAME:Lezing over natuurreis door Suriname
X-ALT-DESC;FMTTYPE=text/html:<a href='/agenda/2026/4/20/lezing-over-natuurreis-door-suriname-490677'>/agenda/2026/4/20/lezing-over-natuurreis-door-suriname-490677</a> || <p><strong>Lezing over natuurreis door Suriname bij Tringa</strong></p><p>Vogelwerkgroep Tringa organiseert maandag 20 april een lezing over een natuurreis door Suriname.</p><p>SCHAGEN - Mattias Hofstede vertelt over zijn ervaringen en toont foto’s van bijzondere dieren en landschappen.</p><p>Savannes en kustmoerassen</p><p>Hofstede maakte de reis in november 2024. Suriname is vijf keer zo groot als Nederland en herbergt een grote verscheidenheid aan landschappen: van savannes en laaglandregenwoud tot historische plantages en kustmoerassen.</p><p><strong>Vogels, vlinders en junglekatten</strong></p><p>Samen met lokale gids Fred Pansa zag en fotografeerde Hofstede talloze diersoorten. Op de lijst staan bijzondere vogels, kleurrijke vlinders en libellen, reptielen en amfibieën. Ook zoogdieren kwamen in beeld: dolfijnen, apen en zeldzame junglekatten.</p><p>Een van de hoogtepunten was de ontmoeting met de Rotshaan (Cock-of-the-Rock), een opvallende vogel waarvoor het gezelschap nog voor zonsopgang op pad ging.</p><p>De reis voerde ook naar Kabalebo, een afgelegen gebied dat bekendstaat als het ‘Paradijs van de Jungle’. Hofstede en zijn reisgenoten vlogen er naartoe met een klein vliegtuig en trokken per kano de rivier op, op zoek naar reuzenotters.</p><p><strong>Toegang en locatie</strong></p><p>De lezing begint om 20.00 uur in de Nieuwe Nes aan het Schoenmakerspad 1 in Schagen. Toegang bedraagt 5 euro.</p>
DESCRIPTION:<a href='/agenda/2026/4/20/lezing-over-natuurreis-door-suriname-490677'>/agenda/2026/4/20/lezing-over-natuurreis-door-suriname-490677</a> || <p><strong>Lezing over natuurreis door Suriname bij Tringa</strong></p><p>Vogelwerkgroep Tringa organiseert maandag 20 april een lezing over een natuurreis door Suriname.</p><p>SCHAGEN - Mattias Hofstede vertelt over zijn ervaringen en toont foto’s van bijzondere dieren en landschappen.</p><p>Savannes en kustmoerassen</p><p>Hofstede maakte de reis in november 2024. Suriname is vijf keer zo groot als Nederland en herbergt een grote verscheidenheid aan landschappen: van savannes en laaglandregenwoud tot historische plantages en kustmoerassen.</p><p><strong>Vogels, vlinders en junglekatten</strong></p><p>Samen met lokale gids Fred Pansa zag en fotografeerde Hofstede talloze diersoorten. Op de lijst staan bijzondere vogels, kleurrijke vlinders en libellen, reptielen en amfibieën. Ook zoogdieren kwamen in beeld: dolfijnen, apen en zeldzame junglekatten.</p><p>Een van de hoogtepunten was de ontmoeting met de Rotshaan (Cock-of-the-Rock), een opvallende vogel waarvoor het gezelschap nog voor zonsopgang op pad ging.</p><p>De reis voerde ook naar Kabalebo, een afgelegen gebied dat bekendstaat als het ‘Paradijs van de Jungle’. Hofstede en zijn reisgenoten vlogen er naartoe met een klein vliegtuig en trokken per kano de rivier op, op zoek naar reuzenotters.</p><p><strong>Toegang en locatie</strong></p><p>De lezing begint om 20.00 uur in de Nieuwe Nes aan het Schoenmakerspad 1 in Schagen. Toegang bedraagt 5 euro.</p>
LAST-MODIFIED:20260420T022450Z
LOCATION: De Nieuwe Nes | Schoenmakerspad 1 Schagen
SEQUENCE:0
STATUS:CONFIRMED
SUMMARY:Lezing over natuurreis door Suriname
TRANSP:OPAQUE
END:VEVENT
END:VCALENDAR
