BEGIN:VCALENDAR
PRODID:-//PUBBLE//agenda//NL
VERSION:2.0
METHOD:PUBLISH
BEGIN:VEVENT
DTSTART:20260414T124306Z
DTEND:20260414T134306Z
DTSTAMP:20260420T022318Z
UID:49f00dc5-4aa6-49e1-a206-5b037ea62def
CREATED:20260420T022318Z
NAME:Kwartet Jazzfans bij De Oude Keuken dagjeuitinderegio.nl
X-WR-CALNAME:Kwartet Jazzfans bij De Oude Keuken
X-ALT-DESC;FMTTYPE=text/html:<a href='/agenda/2026/4/19/kwartet-jazzfans-bij-de-oude-keuken-490823'>/agenda/2026/4/19/kwartet-jazzfans-bij-de-oude-keuken-490823</a> || <p>Het kwartet Jazzfans brengt deze middag een afwisselend programma van bekende jazznummers en ballads. De groep laat zich inspireren door iconen als Stan Getz, Chet Baker, Miles Davis, Antonio Carlos Jobim en Ella Fitzgerald. De toegang is gratis, al wordt een vrijwillige bijdrage voor de musici op prijs gesteld. Meer informatie via www.deoudekeuken.net en www.jazzfans.nl.</p>
DESCRIPTION:<a href='/agenda/2026/4/19/kwartet-jazzfans-bij-de-oude-keuken-490823'>/agenda/2026/4/19/kwartet-jazzfans-bij-de-oude-keuken-490823</a> || <p>Het kwartet Jazzfans brengt deze middag een afwisselend programma van bekende jazznummers en ballads. De groep laat zich inspireren door iconen als Stan Getz, Chet Baker, Miles Davis, Antonio Carlos Jobim en Ella Fitzgerald. De toegang is gratis, al wordt een vrijwillige bijdrage voor de musici op prijs gesteld. Meer informatie via www.deoudekeuken.net en www.jazzfans.nl.</p>
LAST-MODIFIED:20260420T022318Z
LOCATION: De Oude Keuken | Oude Parklaan 117 Bakkum
SEQUENCE:0
STATUS:CONFIRMED
SUMMARY:Kwartet Jazzfans bij De Oude Keuken
TRANSP:OPAQUE
END:VEVENT
END:VCALENDAR
