BEGIN:VCALENDAR
PRODID:-//PUBBLE//agenda//NL
VERSION:2.0
METHOD:PUBLISH
BEGIN:VEVENT
DTSTART:20260414T132938Z
DTEND:20260414T142938Z
DTSTAMP:20260420T125138Z
UID:e5791a87-d578-4b41-91f5-7c824eed03bc
CREATED:20260420T125138Z
NAME:JOHAN viert 25 jaar Pergola in Podium Victorie dagjeuitinderegio.nl
X-WR-CALNAME:JOHAN viert 25 jaar Pergola in Podium Victorie
X-ALT-DESC;FMTTYPE=text/html:<a href='/agenda/2026/4/24/johan-viert-25-jaar-pergola-in-podium-victorie-490836'>/agenda/2026/4/24/johan-viert-25-jaar-pergola-in-podium-victorie-490836</a> || <p>De Nederlandse indierockband JOHAN viert vrijdag 24 april het 25-jarig jubileum van hun iconische album ‘Pergola’ met een bijzonder liveoptreden in Podium Victorie. Tijdens deze avond speelt de band het album integraal, aangevuld met werk uit dezelfde periode.</p><p>‘Pergola’ groeide uit tot een moderne klassieker binnen de Nederlandse popmuziek. Met nummers als ‘Tumble and Fall’ ‘Day is Done’ ‘Pergola’ en ‘Here’ vestigde JOHAN definitief hun naam. Vijfentwintig jaar na de release krijgt het album opnieuw het podium dat het verdient.</p><p>De deuren zijn om 19:15 geopend, om 19:50 gaat de avond van start.</p>
DESCRIPTION:<a href='/agenda/2026/4/24/johan-viert-25-jaar-pergola-in-podium-victorie-490836'>/agenda/2026/4/24/johan-viert-25-jaar-pergola-in-podium-victorie-490836</a> || <p>De Nederlandse indierockband JOHAN viert vrijdag 24 april het 25-jarig jubileum van hun iconische album ‘Pergola’ met een bijzonder liveoptreden in Podium Victorie. Tijdens deze avond speelt de band het album integraal, aangevuld met werk uit dezelfde periode.</p><p>‘Pergola’ groeide uit tot een moderne klassieker binnen de Nederlandse popmuziek. Met nummers als ‘Tumble and Fall’ ‘Day is Done’ ‘Pergola’ en ‘Here’ vestigde JOHAN definitief hun naam. Vijfentwintig jaar na de release krijgt het album opnieuw het podium dat het verdient.</p><p>De deuren zijn om 19:15 geopend, om 19:50 gaat de avond van start.</p>
LAST-MODIFIED:20260420T125138Z
LOCATION: Podium Victorie | Pettemerstraat 5 
SEQUENCE:0
STATUS:CONFIRMED
SUMMARY:JOHAN viert 25 jaar Pergola in Podium Victorie
TRANSP:OPAQUE
END:VEVENT
END:VCALENDAR
