BEGIN:VCALENDAR
PRODID:-//PUBBLE//agenda//NL
VERSION:2.0
METHOD:PUBLISH
BEGIN:VEVENT
DTSTART:20260415T070425Z
DTEND:20260419T160000Z
DTSTAMP:20260420T022418Z
UID:4228b23e-d81f-45f9-a941-8e538fd949fd
CREATED:20260420T022418Z
NAME:Zesdelige band brengt sixties naar Egmond-Binnen dagjeuitinderegio.nl
X-WR-CALNAME:Zesdelige band brengt sixties naar Egmond-Binnen
X-ALT-DESC;FMTTYPE=text/html:<a href='/agenda/2026/4/19/zesdelige-band-brengt-sixties-naar-egmond-binnen-490919'>/agenda/2026/4/19/zesdelige-band-brengt-sixties-naar-egmond-binnen-490919</a> || <p class="PLAT" pstyle="PLAT">
    <strong>EGMOND-BINNEN - Muziekcafé Soigné is op zondag 19 april het podium voor GP &amp; Friends, een groep muziekvrienden uit Heiloo en omgeving. De band speelt bekende hits uit de jaren zestig, inclusief een speciale Kinks-tributeset met blazers.</strong>
</p>
<p class="PLAT" pstyle="PLAT">
    Drummer Tom Min uit Egmond, bassist Sander Endel uit Limmen en zanger/gitarist Gert-Paul van der Horst uit Heiloo vormen de basis van GP &amp; Friends. Op 19 april worden zij versterkt door twee zangeressen: Silja uit Heiloo en Madeleine uit Stompetoren en een driekoppige blazerssectie: Jan Zijp (trompet), Rogier van Bronkhorst (trombone) en Ronald Blom (saxofoon).
</p>
<h2 class="TUSSENKOP"><strong>Een toer door Londen</strong>
</h2>
<p class="PLAT" pstyle="PLAT">
    De eerste set staat in het teken van ‘Noord-Oost-Zuid-West London’s 60’s Best’: een muzikale route langs The Kinks (Noord-Londen), The Small Faces (Oost-Londen), The Rolling Stones (Zuid-Londen) en The Beatles (West-Londen). Bekende nummers als <em>Dandy</em>, <em>Lazy Sunday</em>, <em>As Tears Go By</em> en <em>With a Little Help from My Friends</em> komen voorbij.
</p>
<h2 class="TUSSENKOP"><strong>Kinks-tribute met blazers</strong>
</h2>
<p class="PLAT" pstyle="PLAT">
    In de tweede set sluit de blazerssectie aan voor een Kinks-tributeprogramma van tien tot twaalf songs. Gert-Paul van der Horst verbindt de sets als storyteller, met anekdotes over zijn vier favoriete sixties-bands.
</p>
<p class="PLAT" pstyle="PLAT">
    GP &amp; Friends treedt op van 16.00 tot 18.00 uur. Het café opent om 15.00 uur. De entree is gratis; tijdens de pauze gaat de hoed rond. Vanwege het beperkte aantal zitplaatsen is aanmelden gewenst via <u><strong><a href="http://www.muziekcafesoigne.nl/contact" target="_blank" rel="noopener noreferrer">www.muziekcafesoigne.nl/contact</a></strong></u>. Muziekcafé Soigné is gevestigd aan de Sint Adelbertusweg 31 in Egmond-Binnen.
</p>
<style>.TUSSENKOP { }</style>
DESCRIPTION:<a href='/agenda/2026/4/19/zesdelige-band-brengt-sixties-naar-egmond-binnen-490919'>/agenda/2026/4/19/zesdelige-band-brengt-sixties-naar-egmond-binnen-490919</a> || <p class="PLAT" pstyle="PLAT">
    <strong>EGMOND-BINNEN - Muziekcafé Soigné is op zondag 19 april het podium voor GP &amp; Friends, een groep muziekvrienden uit Heiloo en omgeving. De band speelt bekende hits uit de jaren zestig, inclusief een speciale Kinks-tributeset met blazers.</strong>
</p>
<p class="PLAT" pstyle="PLAT">
    Drummer Tom Min uit Egmond, bassist Sander Endel uit Limmen en zanger/gitarist Gert-Paul van der Horst uit Heiloo vormen de basis van GP &amp; Friends. Op 19 april worden zij versterkt door twee zangeressen: Silja uit Heiloo en Madeleine uit Stompetoren en een driekoppige blazerssectie: Jan Zijp (trompet), Rogier van Bronkhorst (trombone) en Ronald Blom (saxofoon).
</p>
<h2 class="TUSSENKOP"><strong>Een toer door Londen</strong>
</h2>
<p class="PLAT" pstyle="PLAT">
    De eerste set staat in het teken van ‘Noord-Oost-Zuid-West London’s 60’s Best’: een muzikale route langs The Kinks (Noord-Londen), The Small Faces (Oost-Londen), The Rolling Stones (Zuid-Londen) en The Beatles (West-Londen). Bekende nummers als <em>Dandy</em>, <em>Lazy Sunday</em>, <em>As Tears Go By</em> en <em>With a Little Help from My Friends</em> komen voorbij.
</p>
<h2 class="TUSSENKOP"><strong>Kinks-tribute met blazers</strong>
</h2>
<p class="PLAT" pstyle="PLAT">
    In de tweede set sluit de blazerssectie aan voor een Kinks-tributeprogramma van tien tot twaalf songs. Gert-Paul van der Horst verbindt de sets als storyteller, met anekdotes over zijn vier favoriete sixties-bands.
</p>
<p class="PLAT" pstyle="PLAT">
    GP &amp; Friends treedt op van 16.00 tot 18.00 uur. Het café opent om 15.00 uur. De entree is gratis; tijdens de pauze gaat de hoed rond. Vanwege het beperkte aantal zitplaatsen is aanmelden gewenst via <u><strong><a href="http://www.muziekcafesoigne.nl/contact" target="_blank" rel="noopener noreferrer">www.muziekcafesoigne.nl/contact</a></strong></u>. Muziekcafé Soigné is gevestigd aan de Sint Adelbertusweg 31 in Egmond-Binnen.
</p>
<style>.TUSSENKOP { }</style>
LAST-MODIFIED:20260420T022418Z
LOCATION: Muziekcafé Soigné | Sint Adelbertusweg 31 Egmond-Binnen
SEQUENCE:0
STATUS:CONFIRMED
SUMMARY:Zesdelige band brengt sixties naar Egmond-Binnen
TRANSP:OPAQUE
END:VEVENT
END:VCALENDAR
