BEGIN:VCALENDAR
PRODID:-//PUBBLE//agenda//NL
VERSION:2.0
METHOD:PUBLISH
BEGIN:VEVENT
DTSTART:20260416T080112Z
DTEND:20260425T200000Z
DTSTAMP:20260420T124403Z
UID:6f21392f-fd5a-40eb-aa83-509b47602cbc
CREATED:20260420T124403Z
NAME:Uit in Binnen: culturele avond in De Schulp dagjeuitinderegio.nl
X-WR-CALNAME:Uit in Binnen: culturele avond in De Schulp
X-ALT-DESC;FMTTYPE=text/html:<a href='/agenda/2026/4/25/uit-in-binnen-culturele-avond-in-de-schulp-491084'>/agenda/2026/4/25/uit-in-binnen-culturele-avond-in-de-schulp-491084</a> || <p><strong>EGMOND-BINNEN - Zaterdagavond 25 april is de tweede avond uit de serie culturele avonden “Uit in Binnen” in dorpshuis De Schulp. Elke laatste zaterdagavond van de maand is er een avond vol met allerlei vormen van taal en muziek. In korte blokken kunt u genieten van muziek, poëzie, literatuur, theater, cabaret, woordkunst, pecha kucha en inbreng vanuit het publiek.</strong></p><p>Op 25 april wordt het podium onder andere bezet door culturele duizendpoot Fred Valkering, schrijfster Elisa van der Molen die met humor korte verhalen vertelt en Scarlett met Syrische liederen. Natuurlijk kunt u weer meezingen met Drs. P. waarbij Lydia Mentink begeleidt op de piano.</p><h2>Open podium</h2><p>Na de pauze is er weer open podium waarvoor al twee personen zich hebben aangemeld. Er volgen meer voordrachten en muziek. De avond duurt van 20.00 22.00 uur en de inloop is vanaf 19.30 uur. De toegang is gratis; een vrijwillige bijdrage is welkom. De bar is open.</p><p>Het adres van dorpshuis De Schulp is Visweg 45 in Egmond-Binnen. Informatie is te verkrijgen op www.deschulp.nl en via 072-5063523 of via de mail uitinbinnen@gmail.com.</p>
DESCRIPTION:<a href='/agenda/2026/4/25/uit-in-binnen-culturele-avond-in-de-schulp-491084'>/agenda/2026/4/25/uit-in-binnen-culturele-avond-in-de-schulp-491084</a> || <p><strong>EGMOND-BINNEN - Zaterdagavond 25 april is de tweede avond uit de serie culturele avonden “Uit in Binnen” in dorpshuis De Schulp. Elke laatste zaterdagavond van de maand is er een avond vol met allerlei vormen van taal en muziek. In korte blokken kunt u genieten van muziek, poëzie, literatuur, theater, cabaret, woordkunst, pecha kucha en inbreng vanuit het publiek.</strong></p><p>Op 25 april wordt het podium onder andere bezet door culturele duizendpoot Fred Valkering, schrijfster Elisa van der Molen die met humor korte verhalen vertelt en Scarlett met Syrische liederen. Natuurlijk kunt u weer meezingen met Drs. P. waarbij Lydia Mentink begeleidt op de piano.</p><h2>Open podium</h2><p>Na de pauze is er weer open podium waarvoor al twee personen zich hebben aangemeld. Er volgen meer voordrachten en muziek. De avond duurt van 20.00 22.00 uur en de inloop is vanaf 19.30 uur. De toegang is gratis; een vrijwillige bijdrage is welkom. De bar is open.</p><p>Het adres van dorpshuis De Schulp is Visweg 45 in Egmond-Binnen. Informatie is te verkrijgen op www.deschulp.nl en via 072-5063523 of via de mail uitinbinnen@gmail.com.</p>
LAST-MODIFIED:20260420T124403Z
LOCATION: Dorpshuis De Schulp | Visweg 45 Egmond-Binnen
SEQUENCE:0
STATUS:CONFIRMED
SUMMARY:Uit in Binnen: culturele avond in De Schulp
TRANSP:OPAQUE
END:VEVENT
END:VCALENDAR
