BEGIN:VCALENDAR
PRODID:-//PUBBLE//agenda//NL
VERSION:2.0
METHOD:PUBLISH
BEGIN:VEVENT
DTSTART:20260422T110335Z
DTEND:20260425T140000Z
DTSTAMP:20260423T134653Z
UID:e5bcb741-0326-4b0e-a73f-115ae14d89ca
CREATED:20260423T134653Z
NAME:Boekenmarkt in Koepelkerk dagjeuitinderegio.nl
X-WR-CALNAME:Boekenmarkt in Koepelkerk
X-ALT-DESC;FMTTYPE=text/html:<a href='/agenda/2026/4/25/boekenmarkt-in-koepelkerk-491772'>/agenda/2026/4/25/boekenmarkt-in-koepelkerk-491772</a> || <p>Zaterdag 25 april vindt in de Koepelkerk een boekenmarkt plaats. Bezoekers kunnen terecht voor een grote voorraad boeken, cd’s, lp’s en dvd’s, die voortdurend wordt aangevuld. Alle artikelen kosten één euro. Boekenmarktorganist Peter Huijsman verzorgt een orgelspel. Hij geeft bezoekers ook graag uitleg op de orgelzolder.</p>
DESCRIPTION:<a href='/agenda/2026/4/25/boekenmarkt-in-koepelkerk-491772'>/agenda/2026/4/25/boekenmarkt-in-koepelkerk-491772</a> || <p>Zaterdag 25 april vindt in de Koepelkerk een boekenmarkt plaats. Bezoekers kunnen terecht voor een grote voorraad boeken, cd’s, lp’s en dvd’s, die voortdurend wordt aangevuld. Alle artikelen kosten één euro. Boekenmarktorganist Peter Huijsman verzorgt een orgelspel. Hij geeft bezoekers ook graag uitleg op de orgelzolder.</p>
LAST-MODIFIED:20260423T134653Z
LOCATION: Koepelkerk | Grote Noord 15 Hoorn
SEQUENCE:0
STATUS:CONFIRMED
SUMMARY:Boekenmarkt in Koepelkerk
TRANSP:OPAQUE
END:VEVENT
END:VCALENDAR
