BEGIN:VCALENDAR
PRODID:-//PUBBLE//agenda//NL
VERSION:2.0
METHOD:PUBLISH
BEGIN:VEVENT
DTSTART:20260426T100000Z
DTEND:20260426T110000Z
DTSTAMP:20260424T133758Z
UID:029c0128-92d0-43d9-b0d6-16a722e9aaf1
CREATED:20260424T133758Z
NAME:Koopzondag dagjeuitinderegio.nl
X-WR-CALNAME:Koopzondag
X-ALT-DESC;FMTTYPE=text/html:<a href='/agenda/2026/4/26/koopzondag-492049'>/agenda/2026/4/26/koopzondag-492049</a> || <p>De (meeste) winkels in de binnenstad zijn geopend van 12.00 tot 17.00 uur. Kom shoppen in het altijd gezellige Schagen.</p>
DESCRIPTION:<a href='/agenda/2026/4/26/koopzondag-492049'>/agenda/2026/4/26/koopzondag-492049</a> || <p>De (meeste) winkels in de binnenstad zijn geopend van 12.00 tot 17.00 uur. Kom shoppen in het altijd gezellige Schagen.</p>
LAST-MODIFIED:20260424T133758Z
LOCATION: Centrum |   Schagen
SEQUENCE:0
STATUS:CONFIRMED
SUMMARY:Koopzondag
TRANSP:OPAQUE
END:VEVENT
END:VCALENDAR
