BEGIN:VCALENDAR
PRODID:-//PUBBLE//agenda//NL
VERSION:2.0
METHOD:PUBLISH
BEGIN:VEVENT
DTSTART:20260427T040000Z
DTEND:20260427T050000Z
DTSTAMP:20260424T161020Z
UID:3df63f76-1fb5-44af-a259-a094a82d9419
CREATED:20260424T161020Z
NAME:Vrijmarkt Schagen dagjeuitinderegio.nl
X-WR-CALNAME:Vrijmarkt Schagen
X-ALT-DESC;FMTTYPE=text/html:<a href='/agenda/2026/4/27/vrijmarkt-schagen-492050'>/agenda/2026/4/27/vrijmarkt-schagen-492050</a> || <p>Schagen viert Koningsdag met een traditionele vrijmarkt. Het is vanaf 6.00 uur toegestaan om een plekje op de vrijmarkt in te nemen. De vrijmarkt duurt tot 13.30 uur. Tijdens de vrijmarkt zijn de Markt, Gedempte Gracht, Het Slotplein, Torenstraat en Nieuwstraat afgesloten voor het verkeer.</p>
DESCRIPTION:<a href='/agenda/2026/4/27/vrijmarkt-schagen-492050'>/agenda/2026/4/27/vrijmarkt-schagen-492050</a> || <p>Schagen viert Koningsdag met een traditionele vrijmarkt. Het is vanaf 6.00 uur toegestaan om een plekje op de vrijmarkt in te nemen. De vrijmarkt duurt tot 13.30 uur. Tijdens de vrijmarkt zijn de Markt, Gedempte Gracht, Het Slotplein, Torenstraat en Nieuwstraat afgesloten voor het verkeer.</p>
LAST-MODIFIED:20260424T161020Z
LOCATION: Centrum |   Schagen
SEQUENCE:0
STATUS:CONFIRMED
SUMMARY:Vrijmarkt Schagen
TRANSP:OPAQUE
END:VEVENT
END:VCALENDAR
