BEGIN:VCALENDAR
PRODID:-//PUBBLE//agenda//NL
VERSION:2.0
METHOD:PUBLISH
BEGIN:VEVENT
DTSTART:20260427T113000Z
DTEND:20260427T123000Z
DTSTAMP:20260424T161237Z
UID:07780b38-bd21-4bed-8798-e85b007f8e3e
CREATED:20260424T161237Z
NAME:Koningsfeest dagjeuitinderegio.nl
X-WR-CALNAME:Koningsfeest
X-ALT-DESC;FMTTYPE=text/html:<a href='/agenda/2026/4/27/koningsfeest-492053'>/agenda/2026/4/27/koningsfeest-492053</a> || <p>Tijdens Koningsdag is het weer feest voor jong en oud op de Markt in Schagen. Gezelligheid en breed vermaak met veel liveoptredens op het podium aan de kant van onder andere De Gevel, Havana, Piet Pann, Pand 5. Vrij entree.</p>
DESCRIPTION:<a href='/agenda/2026/4/27/koningsfeest-492053'>/agenda/2026/4/27/koningsfeest-492053</a> || <p>Tijdens Koningsdag is het weer feest voor jong en oud op de Markt in Schagen. Gezelligheid en breed vermaak met veel liveoptredens op het podium aan de kant van onder andere De Gevel, Havana, Piet Pann, Pand 5. Vrij entree.</p>
LAST-MODIFIED:20260424T161237Z
LOCATION: Centrum |   Schagen
SEQUENCE:0
STATUS:CONFIRMED
SUMMARY:Koningsfeest
TRANSP:OPAQUE
END:VEVENT
END:VCALENDAR
