BEGIN:VCALENDAR
PRODID:-//PUBBLE//agenda//NL
VERSION:2.0
METHOD:PUBLISH
BEGIN:VEVENT
DTSTART:20260424T101400Z
DTEND:20260424T111400Z
DTSTAMP:20260424T133758Z
UID:8e95fa53-1954-467f-8511-8f73cb620e9e
CREATED:20260424T133758Z
NAME:Strandopruiming in Petten dagjeuitinderegio.nl
X-WR-CALNAME:Strandopruiming in Petten
X-ALT-DESC;FMTTYPE=text/html:<a href='/agenda/2026/4/26/strandopruiming-in-petten-492056'>/agenda/2026/4/26/strandopruiming-in-petten-492056</a> || <p>Vrijwilligers houden zondag 26 april van 10.00 tot circa 12.00 uur een strandopruiming bij Petten. Tijdens een wandeling wordt zwerfafval zoals plastic, blikjes en flessen verzameld. De actie is onderdeel van het Groene Strand Project, dat zich inzet voor schonere en natuurlijkere stranden. Verzamelen gebeurt bij strandpaviljoen Zee en Zo. Handschoenen en grijpers zijn aanwezig.</p>
DESCRIPTION:<a href='/agenda/2026/4/26/strandopruiming-in-petten-492056'>/agenda/2026/4/26/strandopruiming-in-petten-492056</a> || <p>Vrijwilligers houden zondag 26 april van 10.00 tot circa 12.00 uur een strandopruiming bij Petten. Tijdens een wandeling wordt zwerfafval zoals plastic, blikjes en flessen verzameld. De actie is onderdeel van het Groene Strand Project, dat zich inzet voor schonere en natuurlijkere stranden. Verzamelen gebeurt bij strandpaviljoen Zee en Zo. Handschoenen en grijpers zijn aanwezig.</p>
LAST-MODIFIED:20260424T133758Z
LOCATION: Zee en Zo | Strandslag Centrum 2 Petten
SEQUENCE:0
STATUS:CONFIRMED
SUMMARY:Strandopruiming in Petten
TRANSP:OPAQUE
END:VEVENT
END:VCALENDAR
